BEGIN:VCALENDAR
VERSION:2.0
PRODID:-//Squarespace Inc/Squarespace 6//v6//EN
BEGIN:VEVENT
UID:5eeae2458086495ce46dc05d@squarespace.com
DTSTAMP:20200618T034956Z
DTSTART:20200704T090000Z
DTEND:20200704T110000Z
SUMMARY:Tomahawk Steak Night
END:VEVENT
END:VCALENDAR
