BEGIN:VCALENDAR
VERSION:2.0
PRODID:-//Squarespace Inc/Squarespace 6//v6//EN
BEGIN:VEVENT
UID:5dae4491cf12162d5dca9ce4@squarespace.com
DTSTAMP:20191127T021217Z
DTSTART:20191220T063000Z
DTEND:20191220T132900Z
SUMMARY:Seven Stars Christmas Party
END:VEVENT
END:VCALENDAR
