BEGIN:VCALENDAR
VERSION:2.0
PRODID:-//Squarespace Inc/Squarespace 6//v6//EN
BEGIN:VEVENT
UID:5f73ec4dbcf0ff0f86834db1@squarespace.com
DTSTAMP:20201011T234716Z
DTSTART:20201103T013000Z
DTEND:20201103T063000Z
SUMMARY:Melbourne Cup 2020
END:VEVENT
END:VCALENDAR
