BEGIN:VCALENDAR
VERSION:2.0
PRODID:-//Squarespace Inc/Squarespace 6//v6//EN
BEGIN:VEVENT
UID:5d9226af8b48c8602a38d5a4@squarespace.com
DTSTAMP:20191029T141423Z
DTSTART:20191105T170000Z
DTEND:20191105T220000Z
SUMMARY:Melbourne Cup 2019
END:VEVENT
END:VCALENDAR
