BEGIN:VCALENDAR
VERSION:2.0
PRODID:-//Squarespace Inc/Squarespace 6//v6//EN
BEGIN:VEVENT
UID:5e4cb59e7b72973890e7e905@squarespace.com
DTSTAMP:20200219T044109Z
DTSTART:20200318T063000Z
DTEND:20200318T123000Z
SUMMARY:AFL 50c Wing Night
END:VEVENT
END:VCALENDAR
